BEGIN:VCALENDAR
VERSION:2.0
PRODID:-// - ECPv4.6.2//NONSGML v1.0//EN
CALSCALE:GREGORIAN
METHOD:PUBLISH
X-WR-CALNAME:
X-ORIGINAL-URL:https://stdavidsbns.scoilnet.ie/blog
X-WR-CALDESC:Events for 
BEGIN:VEVENT
DTSTART;VALUE=DATE:20180215
DTEND;VALUE=DATE:20180217
DTSTAMP:20171101T003921
CREATED:20170905T194456Z
LAST-MODIFIED:20170905T194456Z
UID:6478-1518652800-1518825599@stdavidsbns.scoilnet.ie
SUMMARY:February Mid-term Break
DESCRIPTION:
URL:https://stdavidsbns.scoilnet.ie/blog/event/february-mid-term-break/
END:VEVENT
END:VCALENDAR