BEGIN:VCALENDAR
VERSION:2.0
PRODID:-// - ECPv4.6.2//NONSGML v1.0//EN
CALSCALE:GREGORIAN
METHOD:PUBLISH
X-WR-CALNAME:
X-ORIGINAL-URL:https://stdavidsbns.scoilnet.ie/blog
X-WR-CALDESC:Events for 
BEGIN:VEVENT
DTSTART;VALUE=DATE:20180601
DTEND;VALUE=DATE:20180602
DTSTAMP:20171101T004116
CREATED:20170905T195255Z
LAST-MODIFIED:20170905T195255Z
UID:6490-1527811200-1527897599@stdavidsbns.scoilnet.ie
SUMMARY:School Holiday
DESCRIPTION:School Closed \n
URL:https://stdavidsbns.scoilnet.ie/blog/event/school-holiday-6/
END:VEVENT
END:VCALENDAR