BEGIN:VCALENDAR
VERSION:2.0
PRODID:-// - ECPv4.6.2//NONSGML v1.0//EN
CALSCALE:GREGORIAN
METHOD:PUBLISH
X-WR-CALNAME:
X-ORIGINAL-URL:https://stdavidsbns.scoilnet.ie/blog
X-WR-CALDESC:Events for 
BEGIN:VEVENT
DTSTART;TZID=Europe/Dublin:20170630T115500
DTEND;TZID=Europe/Dublin:20170630T120000
DTSTAMP:20171101T004253
CREATED:20170126T153859Z
LAST-MODIFIED:20170126T153918Z
UID:3951-1498823700-1498824000@stdavidsbns.scoilnet.ie
SUMMARY:Summer Holidays @ 12 noon
DESCRIPTION:Summer Holidays will commence on Friday 30th June at 12 noon (11.55am for Junior and Senior Infants). \nDate to return to school for year 2017/2018 is to be confirmed. \n
URL:https://stdavidsbns.scoilnet.ie/blog/event/summer-holidays-commence-12-noon/
END:VEVENT
END:VCALENDAR