BEGIN:VCALENDAR
VERSION:2.0
PRODID:-// - ECPv4.6.2//NONSGML v1.0//EN
CALSCALE:GREGORIAN
METHOD:PUBLISH
X-WR-CALNAME:
X-ORIGINAL-URL:https://stdavidsbns.scoilnet.ie/blog
X-WR-CALDESC:Events for 
BEGIN:VEVENT
DTSTART;TZID=Europe/Dublin:20180629T115500
DTEND;TZID=Europe/Dublin:20180629T120000
DTSTAMP:20171101T003826
CREATED:20170905T195552Z
LAST-MODIFIED:20170905T195552Z
UID:6496-1530273300-1530273600@stdavidsbns.scoilnet.ie
SUMMARY:Summer Holidays
DESCRIPTION:
URL:https://stdavidsbns.scoilnet.ie/blog/event/summer-holidays/
END:VEVENT
END:VCALENDAR