BEGIN:VCALENDAR
VERSION:2.0
PRODID:-// - ECPv4.6.2//NONSGML v1.0//EN
CALSCALE:GREGORIAN
METHOD:PUBLISH
X-WR-CALNAME:
X-ORIGINAL-URL:https://stdavidsbns.scoilnet.ie/blog
X-WR-CALDESC:Events for 
BEGIN:VEVENT
DTSTART;VALUE=DATE:20171030
DTEND;VALUE=DATE:20171104
DTSTAMP:20171029T224911
CREATED:20170905T193154Z
LAST-MODIFIED:20170905T193154Z
UID:6472-1509321600-1509753599@stdavidsbns.scoilnet.ie
SUMMARY:Halloween Mid Term Break
DESCRIPTION:
URL:https://stdavidsbns.scoilnet.ie/blog/event/halloween-mid-term-break/
END:VEVENT
END:VCALENDAR